BEGIN:VCALENDAR
VERSION:2.0
PRODID:-//SV OLEWIG 1921 - ECPv6.15.20//NONSGML v1.0//EN
CALSCALE:GREGORIAN
METHOD:PUBLISH
X-ORIGINAL-URL:http://sv-olewig.de
X-WR-CALDESC:Veranstaltungen für SV OLEWIG 1921
REFRESH-INTERVAL;VALUE=DURATION:PT1H
X-Robots-Tag:noindex
X-PUBLISHED-TTL:PT1H
BEGIN:VTIMEZONE
TZID:Europe/Paris
BEGIN:DAYLIGHT
TZOFFSETFROM:+0100
TZOFFSETTO:+0200
TZNAME:CEST
DTSTART:20250330T010000
END:DAYLIGHT
BEGIN:STANDARD
TZOFFSETFROM:+0200
TZOFFSETTO:+0100
TZNAME:CET
DTSTART:20251026T010000
END:STANDARD
BEGIN:DAYLIGHT
TZOFFSETFROM:+0100
TZOFFSETTO:+0200
TZNAME:CEST
DTSTART:20260329T010000
END:DAYLIGHT
BEGIN:STANDARD
TZOFFSETFROM:+0200
TZOFFSETTO:+0100
TZNAME:CET
DTSTART:20261025T010000
END:STANDARD
BEGIN:DAYLIGHT
TZOFFSETFROM:+0100
TZOFFSETTO:+0200
TZNAME:CEST
DTSTART:20270328T010000
END:DAYLIGHT
BEGIN:STANDARD
TZOFFSETFROM:+0200
TZOFFSETTO:+0100
TZNAME:CET
DTSTART:20271031T010000
END:STANDARD
END:VTIMEZONE
BEGIN:VEVENT
DTSTART;TZID=Europe/Paris:20260412T150000
DTEND;TZID=Europe/Paris:20260412T170000
DTSTAMP:20260421T104127
CREATED:20260411T180337Z
LAST-MODIFIED:20260411T182109Z
UID:2244-1776006000-1776013200@sv-olewig.de
SUMMARY:Heimspiel gegen SG Hochwald II 12.4. 15 Uhr
DESCRIPTION:Am kommenden Sontag den 12.4. laden wir um 15 Uhr wieder auf unserem Rasen zum Heimspiel ein.  \nAuf 11er Online wird die Partie wie folgt angekündigt:  \n„Im zweiten Spiel auf Olewiger Rasen hat der SVO ein klares Ziel: einen weiteren Sieg einfahren. Auf Punkte ist auch Gegner SG Hochwald II\, der aber erneut mit personellen Problemen erwartet. \n\nDer SV Trier-Olewig ließ seinen Worten Taten folgen und verbuchte nach der Niederlage im Nachholspiel gegen Matthias II drei Siege in Folge. Vor allem der jüngste Erfolg dürfte die Trierer zufrieden stimmen\, schlug man mit dem FC Könen doch den direkten Tabellennachbarn. Mit nunmehr vier Punkten Vorsprung auf Rang fünf darf der SVO den Blick nach oben richten. Will man zum Ende der Saison jedoch auf einem Podiumsplatz stehen\, sind weitere Siege nötig\, ehe es im Saisonfinale gegen Euren\, Konz und Wincheringen geht.  \nDie Olewiger wollen den Schwung daher mitnehmen und gegen die SG Hochwald II den zweiten Heimsieg in Folge einfahren – dann erneut auf heimischem Rasen\, der vor dem Duell gegen Könen freigegeben wurde. „Wir wollen nach Ostern ordentlich trainieren und werden dann versuchen\, wieder zuhause zu gewinnen. In Olewig wollen wir immer als Sieger vom Platz gehen und keine Mannschaft soll uns hier schlagen“\, gibt SVO-Spielertrainer Denys Surma die Marschrichtung vor.“ \nDen ganzen Artikel finden sie hier: https://11er-online.de/artikel/sv-trier-olewig-sg-hochwald-ii-4/
URL:http://sv-olewig.de/event/2244
LOCATION:Sportplatz Olewig\, Zur Mühle 25-11\, Trier\, Rheinland Pfalz\, 54296\, Germany
ATTACH;FMTTYPE=image/png:http://sv-olewig.de/wp-content/uploads/2026/04/12.4.2-e1775930780747.png
END:VEVENT
BEGIN:VEVENT
DTSTART;TZID=Europe/Paris:20260411T100000
DTEND;TZID=Europe/Paris:20260411T100000
DTSTAMP:20260421T104127
CREATED:20260410T090236Z
LAST-MODIFIED:20260410T103515Z
UID:2226-1775901600-1775901600@sv-olewig.de
SUMMARY:Inklusionslauf
DESCRIPTION:  \nSamstag\, 11.04.26\, 10:00 Uhr inklusiver Lauftreff im Moselstadion bei hoffentlich weiterhin Top-Wetter!
URL:http://sv-olewig.de/event/inklusionslauf
LOCATION:Moselstadion\, Am Stadion 1\, Trier\, 54292\, Germany
CATEGORIES:Partnerevents
ATTACH;FMTTYPE=image/jpeg:http://sv-olewig.de/wp-content/uploads/2026/04/WhatsApp-Image-2026-04-09-at-13.32.40.jpeg
END:VEVENT
END:VCALENDAR